BEGIN:VCALENDAR
VERSION:2.0
PRODID:-//Cape Charles - ECPv6.15.17.1//NONSGML v1.0//EN
CALSCALE:GREGORIAN
METHOD:PUBLISH
X-ORIGINAL-URL:https://capecharlesvirginiascape.com
X-WR-CALDESC:Events for Cape Charles
REFRESH-INTERVAL;VALUE=DURATION:PT1H
X-Robots-Tag:noindex
X-PUBLISHED-TTL:PT1H
BEGIN:VTIMEZONE
TZID:America/New_York
BEGIN:DAYLIGHT
TZOFFSETFROM:-0500
TZOFFSETTO:-0400
TZNAME:EDT
DTSTART:20240310T070000
END:DAYLIGHT
BEGIN:STANDARD
TZOFFSETFROM:-0400
TZOFFSETTO:-0500
TZNAME:EST
DTSTART:20241103T060000
END:STANDARD
BEGIN:DAYLIGHT
TZOFFSETFROM:-0500
TZOFFSETTO:-0400
TZNAME:EDT
DTSTART:20250309T070000
END:DAYLIGHT
BEGIN:STANDARD
TZOFFSETFROM:-0400
TZOFFSETTO:-0500
TZNAME:EST
DTSTART:20251102T060000
END:STANDARD
BEGIN:DAYLIGHT
TZOFFSETFROM:-0500
TZOFFSETTO:-0400
TZNAME:EDT
DTSTART:20260308T070000
END:DAYLIGHT
BEGIN:STANDARD
TZOFFSETFROM:-0400
TZOFFSETTO:-0500
TZNAME:EST
DTSTART:20261101T060000
END:STANDARD
END:VTIMEZONE
BEGIN:VEVENT
DTSTART;TZID=America/New_York:20251031T170000
DTEND;TZID=America/New_York:20251031T200000
DTSTAMP:20260310T064016
CREATED:20250922T135329Z
LAST-MODIFIED:20250922T135329Z
UID:10005403-1761930000-1761940800@capecharlesvirginiascape.com
SUMMARY:Boat America
DESCRIPTION:This immersive boating certificate class will have you ship-shape in no time! Learn the ins and outs of boater safety and the needed knowledge for a boating certificate. \nCourse Topics: \n\nIntroduction to Boating\nBoating Law\nSafety Equipment\nSafe Operation and Navigation\nBoating Emergencies\nTrailering\nSports and Boating\n\nThe course is open to all ages; only students 14 & older may operate a boat unsupervised. Boaters younger than 14 (accompanied by an adult) are welcome to attend the course at no charge. \n3 total sessions\, Oct 29 – Oct 31 from 5:00 – 8:00 PM. \nPlease register here by October 28.
URL:https://capecharlesvirginiascape.com/event/boat-america/2025-10-31/
LOCATION:Cape Charles Civic Center\, 500 Tazewell Avenue\, Cape Charles\, VA\, 23310\, United States
END:VEVENT
BEGIN:VEVENT
DTSTART;TZID=America/New_York:20251031T173000
DTEND;TZID=America/New_York:20251031T200000
DTSTAMP:20260310T064016
CREATED:20251009T145827Z
LAST-MODIFIED:20251009T145827Z
UID:10005518-1761931800-1761940800@capecharlesvirginiascape.com
SUMMARY:Halloween Safe Night Out
DESCRIPTION:Come one\, come all to the Northampton County Sheriff’s Office lawn for a fun & safe Halloween celebration! Enjoy family-friendly games\, trunk or treat\, and food & beverages!
URL:https://capecharlesvirginiascape.com/event/halloween-safe-night-out/
END:VEVENT
BEGIN:VEVENT
DTSTART;TZID=America/New_York:20251031T180000
DTEND;TZID=America/New_York:20251031T200000
DTSTAMP:20260310T064016
CREATED:20251021T202330Z
LAST-MODIFIED:20251021T202330Z
UID:10005526-1761933600-1761940800@capecharlesvirginiascape.com
SUMMARY:Halloween Party
DESCRIPTION:Join Local-ISH Art for their Halloween Party and celebrate the holiday with activities like costume contests\, photo-ops\, tricks\, & treats!
URL:https://capecharlesvirginiascape.com/event/halloween-party/
LOCATION:Local-ish Art\, 22 Strawberry Street\, Cape Charles\, VA\, 23310\, United States
ORGANIZER;CN="Local-ish Art":MAILTO:livelocal_ish@yahoo.com
END:VEVENT
BEGIN:VEVENT
DTSTART;TZID=America/New_York:20251031T210000
DTEND;TZID=America/New_York:20251101T020000
DTSTAMP:20260310T064016
CREATED:20250917T174816Z
LAST-MODIFIED:20250917T174816Z
UID:10005391-1761944400-1761962400@capecharlesvirginiascape.com
SUMMARY:E&O Halloween Party
DESCRIPTION:Get ready for a frightfully fun night – E&O Pub’s first-ever Halloween Party & Costume Contest! The Stingrays will perform live\, and costume contests will offer over $500 in chilling prizes! Costume Categories: Best Overall (People’s Choice)\, Best Duo/Group\, Scariest\, & Most UniqueEntrance $10. \nStep into the shadows and help summon the first of many spooky traditions at E&O Pub… if you dare!
URL:https://capecharlesvirginiascape.com/event/eo-halloween-party/
LOCATION:E&O Pub
END:VEVENT
END:VCALENDAR