BEGIN:VCALENDAR
VERSION:2.0
PRODID:-//Cape Charles - ECPv6.15.20//NONSGML v1.0//EN
CALSCALE:GREGORIAN
METHOD:PUBLISH
X-ORIGINAL-URL:https://capecharlesvirginiascape.com
X-WR-CALDESC:Events for Cape Charles
REFRESH-INTERVAL;VALUE=DURATION:PT1H
X-Robots-Tag:noindex
X-PUBLISHED-TTL:PT1H
BEGIN:VTIMEZONE
TZID:America/New_York
BEGIN:DAYLIGHT
TZOFFSETFROM:-0500
TZOFFSETTO:-0400
TZNAME:EDT
DTSTART:20240310T070000
END:DAYLIGHT
BEGIN:STANDARD
TZOFFSETFROM:-0400
TZOFFSETTO:-0500
TZNAME:EST
DTSTART:20241103T060000
END:STANDARD
BEGIN:DAYLIGHT
TZOFFSETFROM:-0500
TZOFFSETTO:-0400
TZNAME:EDT
DTSTART:20250309T070000
END:DAYLIGHT
BEGIN:STANDARD
TZOFFSETFROM:-0400
TZOFFSETTO:-0500
TZNAME:EST
DTSTART:20251102T060000
END:STANDARD
BEGIN:DAYLIGHT
TZOFFSETFROM:-0500
TZOFFSETTO:-0400
TZNAME:EDT
DTSTART:20260308T070000
END:DAYLIGHT
BEGIN:STANDARD
TZOFFSETFROM:-0400
TZOFFSETTO:-0500
TZNAME:EST
DTSTART:20261101T060000
END:STANDARD
END:VTIMEZONE
BEGIN:VEVENT
DTSTART;TZID=America/New_York:20251130T110000
DTEND;TZID=America/New_York:20251130T160000
DTSTAMP:20260424T135136
CREATED:20251120T184852Z
LAST-MODIFIED:20251121T135833Z
UID:10005541-1764500400-1764518400@capecharlesvirginiascape.com
SUMMARY:VINTAGE JEWELRY TRUNK SHOW & THANKSGIVING WEEKEND SALE
DESCRIPTION:Kick off the holidays in style during our most anticipated sale of the year! Join us this Thanksgiving weekend for an exclusive showing of rare vintage jewels\, curated just for us by esteemed GIA Gemologist Rebekah Anderson\, owner of Earth Pebbles in Raleigh. Come see these spectacular\, one-of-a-kind treasures from Christmases past – Victorian\, Art Deco\, Retro styles\, and more! This weekend is also our BIGGEST SALE OF THE YEAR with incredible deals on holiday gifts! \nCan’t make it to Cape Charles in person? We offer FREE SHIPPING AND GIFT WRAPPING ON ALL ORDERS and would be happy to assist with your virtual shopping! Send us a DM\, call/text us at 757-678-0055\, or email: info@moonrisejewelry.com. \nVintage Trunk Show & Thanksgiving Weekend Hours:\nFriday\, Nov. 28 – 10am to 8pm\nSaturday\, Nov. 29 – 10am to 5pm\nSunday\, Nov. 30 – 11am to 4pm
URL:https://capecharlesvirginiascape.com/event/vintage-jewelry-trunk-show-thanksgiving-weekend-sale/2025-11-30/
LOCATION:Moonrise Jewelry\, 325 Mason Avenue\, Cape Charles\, VA\, 23310\, United States
ATTACH;FMTTYPE=image/jpeg:https://capecharlesvirginiascape.com/wp-content/uploads/2025/11/FB_Event_Cover_Vintage_Trunk_Nov.25.jpg
ORGANIZER;CN="Moonrise Jewelry":MAILTO:info@moonrisejewelry.com
END:VEVENT
END:VCALENDAR