BEGIN:VCALENDAR
VERSION:2.0
PRODID:-//Cape Charles - ECPv6.15.20//NONSGML v1.0//EN
CALSCALE:GREGORIAN
METHOD:PUBLISH
X-ORIGINAL-URL:https://capecharlesvirginiascape.com
X-WR-CALDESC:Events for Cape Charles
REFRESH-INTERVAL;VALUE=DURATION:PT1H
X-Robots-Tag:noindex
X-PUBLISHED-TTL:PT1H
BEGIN:VTIMEZONE
TZID:America/New_York
BEGIN:DAYLIGHT
TZOFFSETFROM:-0500
TZOFFSETTO:-0400
TZNAME:EDT
DTSTART:20250309T070000
END:DAYLIGHT
BEGIN:STANDARD
TZOFFSETFROM:-0400
TZOFFSETTO:-0500
TZNAME:EST
DTSTART:20251102T060000
END:STANDARD
BEGIN:DAYLIGHT
TZOFFSETFROM:-0500
TZOFFSETTO:-0400
TZNAME:EDT
DTSTART:20260308T070000
END:DAYLIGHT
BEGIN:STANDARD
TZOFFSETFROM:-0400
TZOFFSETTO:-0500
TZNAME:EST
DTSTART:20261101T060000
END:STANDARD
BEGIN:DAYLIGHT
TZOFFSETFROM:-0500
TZOFFSETTO:-0400
TZNAME:EDT
DTSTART:20270314T070000
END:DAYLIGHT
BEGIN:STANDARD
TZOFFSETFROM:-0400
TZOFFSETTO:-0500
TZNAME:EST
DTSTART:20271107T060000
END:STANDARD
END:VTIMEZONE
BEGIN:VEVENT
DTSTART;VALUE=DATE:20260418
DTEND;VALUE=DATE:20260419
DTSTAMP:20260424T080255
CREATED:20260408T180308Z
LAST-MODIFIED:20260408T180308Z
UID:10005923-1776470400-1776556799@capecharlesvirginiascape.com
SUMMARY:Mega Sidewalk Sale
DESCRIPTION:Strolling through town for the Town-Wide Yard Sale? Be sure to swing by our downtown shops\, where you’ll find plenty of great deals as they clear out inventory\, too. Shop small\, save big\, and support local businesses on April 18!
URL:https://capecharlesvirginiascape.com/event/mega-sidewalk-sale/
LOCATION:Cape Charles
CATEGORIES:Community Events
ATTACH;FMTTYPE=image/png:https://capecharlesvirginiascape.com/wp-content/uploads/2026/04/Sidewalk-Sale-for-social.png
END:VEVENT
BEGIN:VEVENT
DTSTART;TZID=America/New_York:20260418T090000
DTEND;TZID=America/New_York:20260418T150000
DTSTAMP:20260424T080255
CREATED:20260128T174206Z
LAST-MODIFIED:20260306T141841Z
UID:10005723-1776502800-1776524400@capecharlesvirginiascape.com
SUMMARY:Town Wide Community Yard Sale
DESCRIPTION:Register in advance to have your property listed in participating addresses. admin.events@capecharles.org
URL:https://capecharlesvirginiascape.com/event/town-wide-community-yard-sale/
LOCATION:Cape Charles
CATEGORIES:Classes & Activities,Community Events
ATTACH;FMTTYPE=image/png:https://capecharlesvirginiascape.com/wp-content/uploads/2026/01/Town-Wide-Yard-Sale-teaser-scaled.png
ORGANIZER;CN="Town of Cape Charles":MAILTO:admin.events@capecharles.org
END:VEVENT
END:VCALENDAR