BEGIN:VCALENDAR
VERSION:2.0
PRODID:-//Cape Charles - ECPv6.15.20//NONSGML v1.0//EN
CALSCALE:GREGORIAN
METHOD:PUBLISH
X-ORIGINAL-URL:https://capecharlesvirginiascape.com
X-WR-CALDESC:Events for Cape Charles
REFRESH-INTERVAL;VALUE=DURATION:PT1H
X-Robots-Tag:noindex
X-PUBLISHED-TTL:PT1H
BEGIN:VTIMEZONE
TZID:America/New_York
BEGIN:DAYLIGHT
TZOFFSETFROM:-0500
TZOFFSETTO:-0400
TZNAME:EDT
DTSTART:20250309T070000
END:DAYLIGHT
BEGIN:STANDARD
TZOFFSETFROM:-0400
TZOFFSETTO:-0500
TZNAME:EST
DTSTART:20251102T060000
END:STANDARD
BEGIN:DAYLIGHT
TZOFFSETFROM:-0500
TZOFFSETTO:-0400
TZNAME:EDT
DTSTART:20260308T070000
END:DAYLIGHT
BEGIN:STANDARD
TZOFFSETFROM:-0400
TZOFFSETTO:-0500
TZNAME:EST
DTSTART:20261101T060000
END:STANDARD
BEGIN:DAYLIGHT
TZOFFSETFROM:-0500
TZOFFSETTO:-0400
TZNAME:EDT
DTSTART:20270314T070000
END:DAYLIGHT
BEGIN:STANDARD
TZOFFSETFROM:-0400
TZOFFSETTO:-0500
TZNAME:EST
DTSTART:20271107T060000
END:STANDARD
END:VTIMEZONE
BEGIN:VEVENT
DTSTART;TZID=America/New_York:20260619T170000
DTEND;TZID=America/New_York:20260621T180000
DTSTAMP:20260424T074624
CREATED:20250707T161342Z
LAST-MODIFIED:20260306T141957Z
UID:10005310-1781888400-1782064800@capecharlesvirginiascape.com
SUMMARY:SailFest Cape Charles
DESCRIPTION:For seven days in June 2026\, more than 55 ships from 20 nations will engage with residents and visitors in affiliate harbors across the Chesapeake Bay region in events and programs symbolic of the bonds of international goodwill. As a Sail Virginia℠ 2026  Affiliate Harbor\, Cape Charles will welcome multiple tall ships to SailFest Cape Charles from June 19-21\, 2026. The three ships – schooner Lynx\, New Jersey’s tall ship AJ Meerwald and the majestic Kalmar Nyckel – will be open to the public for free tours from noon until 6:00 p.m. on June 21 and 22. Our SailFest Cape Charles™ days-long series of special events will provide a wonderful means to tell the story of the contributions of the Eastern Shore during the Revolution and the establishment of our nation. SailFest Cape Charles promises to be a fun-filled\, family friendly festival in and around Cape Charles Harbor. We expect to include historians\, boating enthusiasts\, period re-enactors\, local musicians\, arts and artisans and many more groups from the area to help welcome visitors\, celebrate America\, and showcase the ships we’ll host in our lovely town.
URL:https://capecharlesvirginiascape.com/event/sailfest-cape-charles/
LOCATION:Cape Charles Harbor\, Marina Rd.\, Cape Charles\, VA\, 23310\, United States
CATEGORIES:Community Events
ATTACH;FMTTYPE=image/png:https://capecharlesvirginiascape.com/wp-content/uploads/2025/07/2026_LogoSailfest_FullColorVertical-scaled.png
END:VEVENT
END:VCALENDAR