BEGIN:VCALENDAR
VERSION:2.0
PRODID:-//Cape Charles - ECPv6.15.20//NONSGML v1.0//EN
CALSCALE:GREGORIAN
METHOD:PUBLISH
X-WR-CALNAME:Cape Charles
X-ORIGINAL-URL:https://capecharlesvirginiascape.com
X-WR-CALDESC:Events for Cape Charles
REFRESH-INTERVAL;VALUE=DURATION:PT1H
X-Robots-Tag:noindex
X-PUBLISHED-TTL:PT1H
BEGIN:VTIMEZONE
TZID:America/New_York
BEGIN:DAYLIGHT
TZOFFSETFROM:-0500
TZOFFSETTO:-0400
TZNAME:EDT
DTSTART:20250309T070000
END:DAYLIGHT
BEGIN:STANDARD
TZOFFSETFROM:-0400
TZOFFSETTO:-0500
TZNAME:EST
DTSTART:20251102T060000
END:STANDARD
BEGIN:DAYLIGHT
TZOFFSETFROM:-0500
TZOFFSETTO:-0400
TZNAME:EDT
DTSTART:20260308T070000
END:DAYLIGHT
BEGIN:STANDARD
TZOFFSETFROM:-0400
TZOFFSETTO:-0500
TZNAME:EST
DTSTART:20261101T060000
END:STANDARD
BEGIN:DAYLIGHT
TZOFFSETFROM:-0500
TZOFFSETTO:-0400
TZNAME:EDT
DTSTART:20270314T070000
END:DAYLIGHT
BEGIN:STANDARD
TZOFFSETFROM:-0400
TZOFFSETTO:-0500
TZNAME:EST
DTSTART:20271107T060000
END:STANDARD
END:VTIMEZONE
BEGIN:VEVENT
DTSTART;TZID=America/New_York:20260630T190000
DTEND;TZID=America/New_York:20260630T210000
DTSTAMP:20260424T074652
CREATED:20260310T002923Z
LAST-MODIFIED:20260310T134543Z
UID:10005883-1782846000-1782853200@capecharlesvirginiascape.com
SUMMARY:Dart Night
DESCRIPTION:Every Tuesday night we will be having dart night. This is free to play. Come meet some new friends and play some darts!
URL:https://capecharlesvirginiascape.com/event/dart-night/2026-06-30/
LOCATION:AJ’s Bar & Grill\, 10 A Peach St\, Cape Charles\, VA\, 23310\, United States
CATEGORIES:Classes & Activities
END:VEVENT
BEGIN:VEVENT
DTSTART;TZID=America/New_York:20260630T203000
DTEND;TZID=America/New_York:20260630T213000
DTSTAMP:20260424T074652
CREATED:20260107T145256Z
LAST-MODIFIED:20260306T141605Z
UID:10005694-1782851400-1782855000@capecharlesvirginiascape.com
SUMMARY:Strawberry Moon Bike Ride
DESCRIPTION:Get out & ride under the Strawberry Moon! Bikers will meet at the LOVE Sign at 8:10 PM before taking off on a cruise around town. Bikers of all experience levels are welcome to join in! \nThe Strawberry Moon is rooted in Native American traditions\, referencing the short strawberry harvesting season in North America. This moon signals the start of summer and peak berry harvest time. \n*Upon Rails to Trails’ completion\, the meeting/start point will be moved to the trailhead parking lot\, next to Rayfield’s.*
URL:https://capecharlesvirginiascape.com/event/strawberry-moon-bike-ride/
LOCATION:Cape Charles
CATEGORIES:Classes & Activities
END:VEVENT
END:VCALENDAR