BEGIN:VCALENDAR
VERSION:2.0
PRODID:-//Cape Charles - ECPv6.15.20//NONSGML v1.0//EN
CALSCALE:GREGORIAN
METHOD:PUBLISH
X-WR-CALNAME:Cape Charles
X-ORIGINAL-URL:https://capecharlesvirginiascape.com
X-WR-CALDESC:Events for Cape Charles
REFRESH-INTERVAL;VALUE=DURATION:PT1H
X-Robots-Tag:noindex
X-PUBLISHED-TTL:PT1H
BEGIN:VTIMEZONE
TZID:America/New_York
BEGIN:DAYLIGHT
TZOFFSETFROM:-0500
TZOFFSETTO:-0400
TZNAME:EDT
DTSTART:20250309T070000
END:DAYLIGHT
BEGIN:STANDARD
TZOFFSETFROM:-0400
TZOFFSETTO:-0500
TZNAME:EST
DTSTART:20251102T060000
END:STANDARD
BEGIN:DAYLIGHT
TZOFFSETFROM:-0500
TZOFFSETTO:-0400
TZNAME:EDT
DTSTART:20260308T070000
END:DAYLIGHT
BEGIN:STANDARD
TZOFFSETFROM:-0400
TZOFFSETTO:-0500
TZNAME:EST
DTSTART:20261101T060000
END:STANDARD
BEGIN:DAYLIGHT
TZOFFSETFROM:-0500
TZOFFSETTO:-0400
TZNAME:EDT
DTSTART:20270314T070000
END:DAYLIGHT
BEGIN:STANDARD
TZOFFSETFROM:-0400
TZOFFSETTO:-0500
TZNAME:EST
DTSTART:20271107T060000
END:STANDARD
END:VTIMEZONE
BEGIN:VEVENT
DTSTART;TZID=America/New_York:20260314T160000
DTEND;TZID=America/New_York:20260314T200000
DTSTAMP:20260424T062351
CREATED:20260123T174337Z
LAST-MODIFIED:20260306T142403Z
UID:10005721-1773504000-1773518400@capecharlesvirginiascape.com
SUMMARY:Oysters for Education
DESCRIPTION:🦪🎉 Oysters for Education is back! 🎉🦪 \nJoin us at The Shanty on Saturday\, March 14th\, from 4–8 PM for an evening of delicious oysters\, great BBQ\, music\, and community fun — all in support of local students!\nEvery ticket helps the Northampton County Education Foundation (NCEF) provide grants\, programs\, and opportunities for our schools. Grab your friends\, grab a drink\, and grab your tickets before they’re gone! \n👉 Get your tickets today and support education right here at home! \nTickets: https://givebutter.com/0sisR4
URL:https://capecharlesvirginiascape.com/event/oysters-for-education/
LOCATION:The Shanty
CATEGORIES:Community Events,Fundraising & Volunteering
END:VEVENT
END:VCALENDAR