BEGIN:VCALENDAR
VERSION:2.0
PRODID:-//Cape Charles - ECPv6.15.20//NONSGML v1.0//EN
CALSCALE:GREGORIAN
METHOD:PUBLISH
X-ORIGINAL-URL:https://capecharlesvirginiascape.com
X-WR-CALDESC:Events for Cape Charles
REFRESH-INTERVAL;VALUE=DURATION:PT1H
X-Robots-Tag:noindex
X-PUBLISHED-TTL:PT1H
BEGIN:VTIMEZONE
TZID:America/New_York
BEGIN:DAYLIGHT
TZOFFSETFROM:-0500
TZOFFSETTO:-0400
TZNAME:EDT
DTSTART:20240310T070000
END:DAYLIGHT
BEGIN:STANDARD
TZOFFSETFROM:-0400
TZOFFSETTO:-0500
TZNAME:EST
DTSTART:20241103T060000
END:STANDARD
BEGIN:DAYLIGHT
TZOFFSETFROM:-0500
TZOFFSETTO:-0400
TZNAME:EDT
DTSTART:20250309T070000
END:DAYLIGHT
BEGIN:STANDARD
TZOFFSETFROM:-0400
TZOFFSETTO:-0500
TZNAME:EST
DTSTART:20251102T060000
END:STANDARD
BEGIN:DAYLIGHT
TZOFFSETFROM:-0500
TZOFFSETTO:-0400
TZNAME:EDT
DTSTART:20260308T070000
END:DAYLIGHT
BEGIN:STANDARD
TZOFFSETFROM:-0400
TZOFFSETTO:-0500
TZNAME:EST
DTSTART:20261101T060000
END:STANDARD
END:VTIMEZONE
BEGIN:VEVENT
DTSTART;TZID=America/New_York:20250801T200000
DTEND;TZID=America/New_York:20250801T220000
DTSTAMP:20260419T090845
CREATED:20250730T130106Z
LAST-MODIFIED:20250730T181354Z
UID:10005332-1754078400-1754085600@capecharlesvirginiascape.com
SUMMARY:Films That Move
DESCRIPTION:Join the Historic Palace Theatre in premiering Films That Move\, dance-inspired films crafted by an international cohort of artists from varying disciplines. Airing on the new projector in 4k. \n25 artists\, 8 films\, 1 night. \nCash Bar with Wine\, Beer\, Mixed Drinks\, sodas\, water & snacks \nJuly 30th only\, purchase tickets for $10 with the code FLASH! \nBuy tickets here. 
URL:https://capecharlesvirginiascape.com/event/films-that-move/
LOCATION:Historic Palace Theatre\, 305 Mason Ave.\, Cape Charles\, VA\, 23310\, United States
ORGANIZER;CN="GEAR":MAILTO:info@filmsthatmove.us
END:VEVENT
END:VCALENDAR