BEGIN:VCALENDAR
VERSION:2.0
PRODID:-//Cape Charles - ECPv6.15.20//NONSGML v1.0//EN
CALSCALE:GREGORIAN
METHOD:PUBLISH
X-ORIGINAL-URL:https://capecharlesvirginiascape.com
X-WR-CALDESC:Events for Cape Charles
REFRESH-INTERVAL;VALUE=DURATION:PT1H
X-Robots-Tag:noindex
X-PUBLISHED-TTL:PT1H
BEGIN:VTIMEZONE
TZID:America/New_York
BEGIN:DAYLIGHT
TZOFFSETFROM:-0500
TZOFFSETTO:-0400
TZNAME:EDT
DTSTART:20250309T070000
END:DAYLIGHT
BEGIN:STANDARD
TZOFFSETFROM:-0400
TZOFFSETTO:-0500
TZNAME:EST
DTSTART:20251102T060000
END:STANDARD
BEGIN:DAYLIGHT
TZOFFSETFROM:-0500
TZOFFSETTO:-0400
TZNAME:EDT
DTSTART:20260308T070000
END:DAYLIGHT
BEGIN:STANDARD
TZOFFSETFROM:-0400
TZOFFSETTO:-0500
TZNAME:EST
DTSTART:20261101T060000
END:STANDARD
BEGIN:DAYLIGHT
TZOFFSETFROM:-0500
TZOFFSETTO:-0400
TZNAME:EDT
DTSTART:20270314T070000
END:DAYLIGHT
BEGIN:STANDARD
TZOFFSETFROM:-0400
TZOFFSETTO:-0500
TZNAME:EST
DTSTART:20271107T060000
END:STANDARD
END:VTIMEZONE
BEGIN:VEVENT
DTSTART;TZID=America/New_York:20260509T100000
DTEND;TZID=America/New_York:20260509T170000
DTSTAMP:20260422T084953
CREATED:20260414T205327Z
LAST-MODIFIED:20260416T141850Z
UID:10005926-1778320800-1778346000@capecharlesvirginiascape.com
SUMMARY:Mother’s Day Piercing + Permanent Jewelry Party
DESCRIPTION:✨ Celebrate Mother’s Day with a Sparkle Upgrade! \nJoin us for our highly anticipated Piercing + Permanent Jewelry Party on Saturday\, May 9th! We’re thrilled to be welcoming back professional piercer Bridgett Dearing for safe\, gentle piercing services right here in our Cape Charles store. \nWe’ve partnered with Aurelie Gi to offer you a stunning selection of 14K piercing jewelry\, available in both yellow and white gold. \nOur last Piercing Party was completely SOLD OUT\, so RESERVE YOUR PIERCING APPOINTMENT NOW:\nhttps://moonrisejewelry.com/mothers-day-piercing-permanent-jewelry-party/ \n💫 We’ll also be taking walk-ins all day for our Permanent Jewelry services. \n📍325 Mason Avenue\, Cape Charles\, VA\nSaturday\, May 9\, 10 am – 5 pm
URL:https://capecharlesvirginiascape.com/event/mothers-day-piercing-permanent-jewelry-party/
LOCATION:Moonrise Jewelry\, 325 Mason Avenue\, Cape Charles\, VA\, 23310\, United States
CATEGORIES:Classes & Activities
ATTACH;FMTTYPE=image/jpeg:https://capecharlesvirginiascape.com/wp-content/uploads/2026/04/Amy-Venus-scaled.jpg
ORGANIZER;CN="Moonrise Jewelry":MAILTO:info@moonrisejewelry.com
END:VEVENT
END:VCALENDAR